BEGIN:VCALENDAR
VERSION:2.0
PRODID:-//Runner&#039;s Club Bellinzona - ECPv6.15.15//NONSGML v1.0//EN
CALSCALE:GREGORIAN
METHOD:PUBLISH
X-ORIGINAL-URL:https://rcbellinzona.ch
X-WR-CALDESC:Eventi per Runner&#039;s Club Bellinzona
REFRESH-INTERVAL;VALUE=DURATION:PT1H
X-Robots-Tag:noindex
X-PUBLISHED-TTL:PT1H
BEGIN:VTIMEZONE
TZID:Europe/Zurich
BEGIN:DAYLIGHT
TZOFFSETFROM:+0100
TZOFFSETTO:+0200
TZNAME:CEST
DTSTART:20220327T010000
END:DAYLIGHT
BEGIN:STANDARD
TZOFFSETFROM:+0200
TZOFFSETTO:+0100
TZNAME:CET
DTSTART:20221030T010000
END:STANDARD
BEGIN:DAYLIGHT
TZOFFSETFROM:+0100
TZOFFSETTO:+0200
TZNAME:CEST
DTSTART:20230326T010000
END:DAYLIGHT
BEGIN:STANDARD
TZOFFSETFROM:+0200
TZOFFSETTO:+0100
TZNAME:CET
DTSTART:20231029T010000
END:STANDARD
BEGIN:DAYLIGHT
TZOFFSETFROM:+0100
TZOFFSETTO:+0200
TZNAME:CEST
DTSTART:20240331T010000
END:DAYLIGHT
BEGIN:STANDARD
TZOFFSETFROM:+0200
TZOFFSETTO:+0100
TZNAME:CET
DTSTART:20241027T010000
END:STANDARD
END:VTIMEZONE
BEGIN:VEVENT
DTSTART;TZID=Europe/Zurich:20230401T143000
DTEND;TZID=Europe/Zurich:20230401T183000
DTSTAMP:20260419T212651
CREATED:20230131T160052Z
LAST-MODIFIED:20230131T160052Z
UID:10971-1680359400-1680373800@rcbellinzona.ch
SUMMARY:Military Cross
DESCRIPTION:staffetta 4 tratte
URL:https://rcbellinzona.ch/event/military-cross/
LOCATION:Piazza del Sole\, Bellinzona\, Svizzera
CATEGORIES:Corsa
END:VEVENT
BEGIN:VEVENT
DTSTART;TZID=Europe/Zurich:20230401T153000
DTEND;TZID=Europe/Zurich:20230401T190000
DTSTAMP:20260419T212651
CREATED:20230131T154721Z
LAST-MODIFIED:20230131T160156Z
UID:10967-1680363000-1680375600@rcbellinzona.ch
SUMMARY:MorcoteScal - sabato 1° aprile 2023
DESCRIPTION:420 gradini
URL:https://rcbellinzona.ch/event/morcotescal-sabato-1-aprile-2023/
LOCATION:Piazza Granda\, Morcote\, Svizzera
CATEGORIES:Corsa
ORGANIZER;CN="Amiconi Consulting":MAILTO:info@amiconiconsulting.ch
END:VEVENT
BEGIN:VEVENT
DTSTART;TZID=Europe/Zurich:20230410T104500
DTEND;TZID=Europe/Zurich:20230410T123000
DTSTAMP:20260419T212651
CREATED:20230131T160804Z
LAST-MODIFIED:20230207T125403Z
UID:10977-1681123500-1681129800@rcbellinzona.ch
SUMMARY:Media Blenio
DESCRIPTION:10 km – 5 km
URL:https://rcbellinzona.ch/event/media-blenio/
LOCATION:Dongio\, Dongio\, Svizzera
CATEGORIES:Corsa
END:VEVENT
BEGIN:VEVENT
DTSTART;TZID=Europe/Zurich:20230416T080000
DTEND;TZID=Europe/Zurich:20230416T170000
DTSTAMP:20260419T212652
CREATED:20230119T100637Z
LAST-MODIFIED:20230306T194521Z
UID:10883-1681632000-1681664400@rcbellinzona.ch
SUMMARY:Corsa podistica Stabio - CPOD
DESCRIPTION:Km 10.5
URL:https://rcbellinzona.ch/event/corsa-podistica-stabio/
LOCATION:Stabio\, Stabio\, Svizzera
CATEGORIES:Corsa,CPOD = coppa Asti podismo
ATTACH;FMTTYPE=image/png:https://rcbellinzona.ch/wp-content/uploads/2023/01/logo.png
ORGANIZER;CN="SFG Stabio":MAILTO:info@sfgstabio.ch
END:VEVENT
BEGIN:VEVENT
DTSTART;VALUE=DATE:20230423
DTEND;VALUE=DATE:20230424
DTSTAMP:20260419T212652
CREATED:20230119T151149Z
LAST-MODIFIED:20230119T201752Z
UID:10913-1682208000-1682294399@rcbellinzona.ch
SUMMARY:Zürich Marathon - Halbmarathon - Cityrun
DESCRIPTION:km 42 / 21 / 10
URL:https://rcbellinzona.ch/event/zurich-marathon-halbmarathon-cityrun/
LOCATION:Zurigo\, Zurigo\, Svizzera
CATEGORIES:Corsa
ATTACH;FMTTYPE=image/webp:https://rcbellinzona.ch/wp-content/uploads/2023/01/OSP_Logo_ZM_RGB_4f_negativ_MARATHON_small.webp
ORGANIZER;CN="ZH Marathon GmbH":MAILTO:info@zuerichmarathon.ch
END:VEVENT
END:VCALENDAR