BEGIN:VCALENDAR
VERSION:2.0
PRODID:-//Runner&#039;s Club Bellinzona - ECPv6.15.15//NONSGML v1.0//EN
CALSCALE:GREGORIAN
METHOD:PUBLISH
X-ORIGINAL-URL:https://rcbellinzona.ch
X-WR-CALDESC:Eventi per Runner&#039;s Club Bellinzona
REFRESH-INTERVAL;VALUE=DURATION:PT1H
X-Robots-Tag:noindex
X-PUBLISHED-TTL:PT1H
BEGIN:VTIMEZONE
TZID:Europe/Zurich
BEGIN:DAYLIGHT
TZOFFSETFROM:+0100
TZOFFSETTO:+0200
TZNAME:CEST
DTSTART:20220327T010000
END:DAYLIGHT
BEGIN:STANDARD
TZOFFSETFROM:+0200
TZOFFSETTO:+0100
TZNAME:CET
DTSTART:20221030T010000
END:STANDARD
BEGIN:DAYLIGHT
TZOFFSETFROM:+0100
TZOFFSETTO:+0200
TZNAME:CEST
DTSTART:20230326T010000
END:DAYLIGHT
BEGIN:STANDARD
TZOFFSETFROM:+0200
TZOFFSETTO:+0100
TZNAME:CET
DTSTART:20231029T010000
END:STANDARD
BEGIN:DAYLIGHT
TZOFFSETFROM:+0100
TZOFFSETTO:+0200
TZNAME:CEST
DTSTART:20240331T010000
END:DAYLIGHT
BEGIN:STANDARD
TZOFFSETFROM:+0200
TZOFFSETTO:+0100
TZNAME:CET
DTSTART:20241027T010000
END:STANDARD
END:VTIMEZONE
BEGIN:VEVENT
DTSTART;TZID=Europe/Zurich:20230304T100000
DTEND;TZID=Europe/Zurich:20230304T120000
DTSTAMP:20260420T104809
CREATED:20230119T092420Z
LAST-MODIFIED:20230119T201306Z
UID:10865-1677924000-1677931200@rcbellinzona.ch
SUMMARY:SanBe Snow Run
DESCRIPTION:SanBe Snow Run \nkm 6.7 – +/- 192
URL:https://rcbellinzona.ch/event/sanbe-snow-run/
LOCATION:San Bernardino\, San Bernardino\, Svizzera
CATEGORIES:Corsa
ATTACH;FMTTYPE=image/webp:https://rcbellinzona.ch/wp-content/uploads/2023/01/SNOW_RUN_SERIES_White-Petite.webp
ORGANIZER;CN="Moesa Runners":MAILTO:info@visit-moesano.ch
END:VEVENT
END:VCALENDAR