BEGIN:VCALENDAR
VERSION:2.0
PRODID:-//Runner&#039;s Club Bellinzona - ECPv6.15.15//NONSGML v1.0//EN
CALSCALE:GREGORIAN
METHOD:PUBLISH
X-WR-CALNAME:Runner&#039;s Club Bellinzona
X-ORIGINAL-URL:https://rcbellinzona.ch
X-WR-CALDESC:Eventi per Runner&#039;s Club Bellinzona
REFRESH-INTERVAL;VALUE=DURATION:PT1H
X-Robots-Tag:noindex
X-PUBLISHED-TTL:PT1H
BEGIN:VTIMEZONE
TZID:Europe/Zurich
BEGIN:DAYLIGHT
TZOFFSETFROM:+0100
TZOFFSETTO:+0200
TZNAME:CEST
DTSTART:20240331T010000
END:DAYLIGHT
BEGIN:STANDARD
TZOFFSETFROM:+0200
TZOFFSETTO:+0100
TZNAME:CET
DTSTART:20241027T010000
END:STANDARD
BEGIN:DAYLIGHT
TZOFFSETFROM:+0100
TZOFFSETTO:+0200
TZNAME:CEST
DTSTART:20250330T010000
END:DAYLIGHT
BEGIN:STANDARD
TZOFFSETFROM:+0200
TZOFFSETTO:+0100
TZNAME:CET
DTSTART:20251026T010000
END:STANDARD
BEGIN:DAYLIGHT
TZOFFSETFROM:+0100
TZOFFSETTO:+0200
TZNAME:CEST
DTSTART:20260329T010000
END:DAYLIGHT
BEGIN:STANDARD
TZOFFSETFROM:+0200
TZOFFSETTO:+0100
TZNAME:CET
DTSTART:20261025T010000
END:STANDARD
END:VTIMEZONE
BEGIN:VEVENT
DTSTART;VALUE=DATE:20250215
DTEND;VALUE=DATE:20250216
DTSTAMP:20260425T161631
CREATED:20241006T185556Z
LAST-MODIFIED:20241006T185556Z
UID:12156-1739577600-1739663999@rcbellinzona.ch
SUMMARY:Cross Moghegno (CT)
DESCRIPTION:segue programma
URL:https://rcbellinzona.ch/event/cross-moghegno-ct/
LOCATION:Moghegno
CATEGORIES:Cross
ORGANIZER;CN="Virtus Locarno":MAILTO:info@virtus.ch
END:VEVENT
END:VCALENDAR