BEGIN:VCALENDAR
VERSION:2.0
PRODID:-//Runner&#039;s Club Bellinzona - ECPv6.15.15//NONSGML v1.0//EN
CALSCALE:GREGORIAN
METHOD:PUBLISH
X-WR-CALNAME:Runner&#039;s Club Bellinzona
X-ORIGINAL-URL:https://rcbellinzona.ch
X-WR-CALDESC:Eventi per Runner&#039;s Club Bellinzona
REFRESH-INTERVAL;VALUE=DURATION:PT1H
X-Robots-Tag:noindex
X-PUBLISHED-TTL:PT1H
BEGIN:VTIMEZONE
TZID:Europe/Zurich
BEGIN:DAYLIGHT
TZOFFSETFROM:+0100
TZOFFSETTO:+0200
TZNAME:CEST
DTSTART:20240331T010000
END:DAYLIGHT
BEGIN:STANDARD
TZOFFSETFROM:+0200
TZOFFSETTO:+0100
TZNAME:CET
DTSTART:20241027T010000
END:STANDARD
BEGIN:DAYLIGHT
TZOFFSETFROM:+0100
TZOFFSETTO:+0200
TZNAME:CEST
DTSTART:20250330T010000
END:DAYLIGHT
BEGIN:STANDARD
TZOFFSETFROM:+0200
TZOFFSETTO:+0100
TZNAME:CET
DTSTART:20251026T010000
END:STANDARD
BEGIN:DAYLIGHT
TZOFFSETFROM:+0100
TZOFFSETTO:+0200
TZNAME:CEST
DTSTART:20260329T010000
END:DAYLIGHT
BEGIN:STANDARD
TZOFFSETFROM:+0200
TZOFFSETTO:+0100
TZNAME:CET
DTSTART:20261025T010000
END:STANDARD
END:VTIMEZONE
BEGIN:VEVENT
DTSTART;VALUE=DATE:20250712
DTEND;VALUE=DATE:20250713
DTSTAMP:20260423T073308
CREATED:20250330T190233Z
LAST-MODIFIED:20250330T190240Z
UID:12357-1752278400-1752364799@rcbellinzona.ch
SUMMARY:Greina Trail In Töira
DESCRIPTION:Programma: \nGreina Trail – Scopri il fascino della Greina attraverso lo sport
URL:https://rcbellinzona.ch/event/greina-trail-in-toira/
LOCATION:Campo Blenio\, Campo Blenio
CATEGORIES:CTR = Coppa ASTi Trail
END:VEVENT
END:VCALENDAR