BEGIN:VCALENDAR
VERSION:2.0
PRODID:-//Runner&#039;s Club Bellinzona - ECPv6.15.15//NONSGML v1.0//EN
CALSCALE:GREGORIAN
METHOD:PUBLISH
X-ORIGINAL-URL:https://rcbellinzona.ch
X-WR-CALDESC:Eventi per Runner&#039;s Club Bellinzona
REFRESH-INTERVAL;VALUE=DURATION:PT1H
X-Robots-Tag:noindex
X-PUBLISHED-TTL:PT1H
BEGIN:VTIMEZONE
TZID:Europe/Zurich
BEGIN:DAYLIGHT
TZOFFSETFROM:+0100
TZOFFSETTO:+0200
TZNAME:CEST
DTSTART:20240331T010000
END:DAYLIGHT
BEGIN:STANDARD
TZOFFSETFROM:+0200
TZOFFSETTO:+0100
TZNAME:CET
DTSTART:20241027T010000
END:STANDARD
BEGIN:DAYLIGHT
TZOFFSETFROM:+0100
TZOFFSETTO:+0200
TZNAME:CEST
DTSTART:20250330T010000
END:DAYLIGHT
BEGIN:STANDARD
TZOFFSETFROM:+0200
TZOFFSETTO:+0100
TZNAME:CET
DTSTART:20251026T010000
END:STANDARD
BEGIN:DAYLIGHT
TZOFFSETFROM:+0100
TZOFFSETTO:+0200
TZNAME:CEST
DTSTART:20260329T010000
END:DAYLIGHT
BEGIN:STANDARD
TZOFFSETFROM:+0200
TZOFFSETTO:+0100
TZNAME:CET
DTSTART:20261025T010000
END:STANDARD
END:VTIMEZONE
BEGIN:VEVENT
DTSTART;VALUE=DATE:20250831
DTEND;VALUE=DATE:20250901
DTSTAMP:20260423T113848
CREATED:20250827T092225Z
LAST-MODIFIED:20250827T092239Z
UID:12499-1756598400-1756684799@rcbellinzona.ch
SUMMARY:Landarenca Trail e Selma - Landarenca
DESCRIPTION:Landarenca Trail  – 8.1 km  925 D+ – pt ore 9.00 \nSelma – Landarenca  – 2.02 km – 363D+ – pt 9.30
URL:https://rcbellinzona.ch/event/landarenca-trail-e-selma-landarenca/
LOCATION:Selma
CATEGORIES:CMSV = Coppa ASTi Montagna Salita e Vertical,CTR = Coppa ASTi Trail
ORGANIZER;CN="Landarenca Trail":MAILTO:info@landarenca-trail.ch
END:VEVENT
END:VCALENDAR