BEGIN:VCALENDAR
VERSION:2.0
PRODID:-//Runner&#039;s Club Bellinzona - ECPv6.15.15//NONSGML v1.0//EN
CALSCALE:GREGORIAN
METHOD:PUBLISH
X-WR-CALNAME:Runner&#039;s Club Bellinzona
X-ORIGINAL-URL:https://rcbellinzona.ch
X-WR-CALDESC:Eventi per Runner&#039;s Club Bellinzona
REFRESH-INTERVAL;VALUE=DURATION:PT1H
X-Robots-Tag:noindex
X-PUBLISHED-TTL:PT1H
BEGIN:VTIMEZONE
TZID:Europe/Zurich
BEGIN:DAYLIGHT
TZOFFSETFROM:+0100
TZOFFSETTO:+0200
TZNAME:CEST
DTSTART:20220327T010000
END:DAYLIGHT
BEGIN:STANDARD
TZOFFSETFROM:+0200
TZOFFSETTO:+0100
TZNAME:CET
DTSTART:20221030T010000
END:STANDARD
BEGIN:DAYLIGHT
TZOFFSETFROM:+0100
TZOFFSETTO:+0200
TZNAME:CEST
DTSTART:20230326T010000
END:DAYLIGHT
BEGIN:STANDARD
TZOFFSETFROM:+0200
TZOFFSETTO:+0100
TZNAME:CET
DTSTART:20231029T010000
END:STANDARD
BEGIN:DAYLIGHT
TZOFFSETFROM:+0100
TZOFFSETTO:+0200
TZNAME:CEST
DTSTART:20240331T010000
END:DAYLIGHT
BEGIN:STANDARD
TZOFFSETFROM:+0200
TZOFFSETTO:+0100
TZNAME:CET
DTSTART:20241027T010000
END:STANDARD
END:VTIMEZONE
BEGIN:VEVENT
DTSTART;TZID=Europe/Zurich:20230501T103000
DTEND;TZID=Europe/Zurich:20230501T120000
DTSTAMP:20260420T101723
CREATED:20230131T161605Z
LAST-MODIFIED:20230306T194503Z
UID:10981-1682937000-1682942400@rcbellinzona.ch
SUMMARY:Stralosone - CPOD
DESCRIPTION:10 km  – 5 km \nGara valida anche per l’assegnazione del titolo di Campione e Campionessa ASTi di podismo.
URL:https://rcbellinzona.ch/event/stralosone/
LOCATION:Losone\, Losone\, Svizzera
CATEGORIES:Corsa,CPOD = coppa Asti podismo
ORGANIZER;CN="Societ%C3%A0 podistica Locarnese":MAILTO:info@splocarnese.ch
END:VEVENT
BEGIN:VEVENT
DTSTART;TZID=Europe/Zurich:20230501T153000
DTEND;TZID=Europe/Zurich:20230501T190000
DTSTAMP:20260420T101723
CREATED:20230409T162352Z
LAST-MODIFIED:20230409T162352Z
UID:11302-1682955000-1682967600@rcbellinzona.ch
SUMMARY:K4 Vertical by Scenic Trail
DESCRIPTION:4.5 km – dislivello 900 m
URL:https://rcbellinzona.ch/event/k4-vertical-by-scenic-trail/
LOCATION:Tesserete\, Svizzera
CATEGORIES:Trail
ORGANIZER;CN="Rezzonico Aaron":MAILTO:info@ticinocup.ch
END:VEVENT
BEGIN:VEVENT
DTSTART;TZID=Europe/Zurich:20230502T182000
DTEND;TZID=Europe/Zurich:20230502T200000
DTSTAMP:20260420T101723
CREATED:20230409T163259Z
LAST-MODIFIED:20230409T164332Z
UID:11311-1683051600-1683057600@rcbellinzona.ch
SUMMARY:Allenamento regolare estivo
DESCRIPTION:Allenamento per tutti i podisti con esercizi vari: farlek\, ripetute\, mobilità ecc.\nResponsabile Sofia Scanziani\ncon l’aiuto di Dino\, Pilar e Rosalba.
URL:https://rcbellinzona.ch/event/allenamento-regolare-estivo-4/
LOCATION:Stadio Comunale Bellinzona\, Viale Giuseppe Motta 1A\, Bellinzona\, Ticino\, 6500\, Svizzera
CATEGORIES:Allenamento
ORGANIZER;CN="Runner's Club Bellinzona":MAILTO:rc.bellinzona@bluewin.ch
END:VEVENT
BEGIN:VEVENT
DTSTART;TZID=Europe/Zurich:20230505T190000
DTEND;TZID=Europe/Zurich:20230505T230000
DTSTAMP:20260420T101723
CREATED:20230308T201046Z
LAST-MODIFIED:20230421T133844Z
UID:11273-1683313200-1683327600@rcbellinzona.ch
SUMMARY:Compleanno - 25° Runner's Club Bellinzona
DESCRIPTION:Festa compleanno – 25° Runner’s Club Bellinzona \nprogramma
URL:https://rcbellinzona.ch/event/compleanno-25-runners-club-bellinzona/
LOCATION:Convento Monte Carasso\, Monte Carasso\, 6513\, Svizzera
ORGANIZER;CN="Runner's Club Bellinzona":MAILTO:rc.bellinzona@bluewin.ch
END:VEVENT
BEGIN:VEVENT
DTSTART;TZID=Europe/Zurich:20230506T080000
DTEND;TZID=Europe/Zurich:20230506T170000
DTSTAMP:20260420T101723
CREATED:20230131T162554Z
LAST-MODIFIED:20230306T194454Z
UID:10985-1683360000-1683392400@rcbellinzona.ch
SUMMARY:Tesserete  - Gola di Lago - CMSV
DESCRIPTION:7.2 km – 494  m dislivello
URL:https://rcbellinzona.ch/event/tesserete-gola-di-lago/
LOCATION:Tesserete\, Svizzera
CATEGORIES:CMSV = Coppa ASTi Montagna Salita e Vertical,Corsa
END:VEVENT
BEGIN:VEVENT
DTSTART;TZID=Europe/Zurich:20230509T182000
DTEND;TZID=Europe/Zurich:20230509T200000
DTSTAMP:20260420T101723
CREATED:20230409T163412Z
LAST-MODIFIED:20230409T164306Z
UID:11313-1683656400-1683662400@rcbellinzona.ch
SUMMARY:Allenamento regolare estivo
DESCRIPTION:Allenamento per tutti i podisti con esercizi vari: farlek\, ripetute\, mobilità ecc.\nResponsabile Sofia Scanziani\ncon l’aiuto di Dino\, Pilar e Rosalba.
URL:https://rcbellinzona.ch/event/allenamento-regolare-estivo-5/
LOCATION:Stadio Comunale Bellinzona\, Viale Giuseppe Motta 1A\, Bellinzona\, Ticino\, 6500\, Svizzera
CATEGORIES:Allenamento
ORGANIZER;CN="Runner's Club Bellinzona":MAILTO:rc.bellinzona@bluewin.ch
END:VEVENT
BEGIN:VEVENT
DTSTART;TZID=Europe/Zurich:20230514T090000
DTEND;TZID=Europe/Zurich:20230514T133000
DTSTAMP:20260420T101723
CREATED:20230131T163527Z
LAST-MODIFIED:20230306T194443Z
UID:10992-1684054800-1684071000@rcbellinzona.ch
SUMMARY:ComanoRun - CPOD
DESCRIPTION:9 km – 5 km corsa \n6 km walking + nordic walking
URL:https://rcbellinzona.ch/event/comanorun/
LOCATION:Comano\, Comano\, Svizzera
CATEGORIES:Corsa,CPOD = coppa Asti podismo
ORGANIZER;CN="Comano Run":MAILTO:info@comanorun.ch
END:VEVENT
BEGIN:VEVENT
DTSTART;TZID=Europe/Zurich:20230516T182000
DTEND;TZID=Europe/Zurich:20230516T200000
DTSTAMP:20260420T101723
CREATED:20230409T163515Z
LAST-MODIFIED:20230427T131458Z
UID:11315-1684261200-1684267200@rcbellinzona.ch
SUMMARY:Allenamento speciale corsa d'orientamento
DESCRIPTION:Siamo felici di segnalare un allenamento speciale\, che si svolgerà Martedì 16 Maggio\, con la collaborazione del gruppo O-92. \nFaremo un’esperienza di corsa d’orientamento sotto la guida di atleti e monitori\, che ci spiegheranno come interpretare le cartine e poi ci metteranno alla prova con alcuni percorsi.\nUna serata diversa per allenarci insieme\, sperimentando un approccio diverso alla corsa.\nPer motivi organizzativi e per poter preparare materiali e percorsi\, è necessario comunicare la propria presenza entro martedì 9 Maggio.\n \nVi aspettiamo numerosi!\nIl comitato\nResponsabile Sofia Scanziani\ncon l’aiuto di Dino\, Pilar e Rosalba.
URL:https://rcbellinzona.ch/event/allenamento-regolare-estivo-6/
LOCATION:Stadio Comunale Bellinzona\, Viale Giuseppe Motta 1A\, Bellinzona\, Ticino\, 6500\, Svizzera
CATEGORIES:Allenamento
ORGANIZER;CN="Runner's Club Bellinzona":MAILTO:rc.bellinzona@bluewin.ch
END:VEVENT
BEGIN:VEVENT
DTSTART;TZID=Europe/Zurich:20230517T194500
DTEND;TZID=Europe/Zurich:20230517T210000
DTSTAMP:20260420T101723
CREATED:20230306T195650Z
LAST-MODIFIED:20230306T195650Z
UID:11236-1684352700-1684357200@rcbellinzona.ch
SUMMARY:Corrida Bellinzonese - CPOD
DESCRIPTION:6 km
URL:https://rcbellinzona.ch/event/corrida-bellinzonese-cpod/
LOCATION:Piazza Grande Giubiasco\, Giubiasco\, 6512\, Svizzera
CATEGORIES:Corsa,CPOD = coppa Asti podismo
ORGANIZER;CN="Fit Form Event":MAILTO:info@fitformevent.ch
END:VEVENT
BEGIN:VEVENT
DTSTART;TZID=Europe/Zurich:20230520T100000
DTEND;TZID=Europe/Zurich:20230520T140000
DTSTAMP:20260420T101723
CREATED:20230306T200237Z
LAST-MODIFIED:20230306T200237Z
UID:11243-1684576800-1684591200@rcbellinzona.ch
SUMMARY:Giubiasco Carena Run - CMSV
DESCRIPTION:10.7 km – + 720 dislivello
URL:https://rcbellinzona.ch/event/giubiasco-carena-run-cmsv/
LOCATION:Piazza Grande Giubiasco\, Giubiasco\, 6512\, Svizzera
CATEGORIES:CMSV = Coppa ASTi Montagna Salita e Vertical,Corsa
ORGANIZER;CN="Fit Form Event":MAILTO:info@fitformevent.ch
END:VEVENT
BEGIN:VEVENT
DTSTART;TZID=Europe/Zurich:20230521T170000
DTEND;TZID=Europe/Zurich:20230521T190000
DTSTAMP:20260420T101723
CREATED:20230511T130741Z
LAST-MODIFIED:20230511T130741Z
UID:11402-1684688400-1684695600@rcbellinzona.ch
SUMMARY:allenamento sul percorso della Castles and Go Bellinzona
DESCRIPTION:11 km
URL:https://rcbellinzona.ch/event/allenamento-sul-percorso-della-castles-and-go-bellinzona/
LOCATION:Bellinzona
CATEGORIES:Allenamento
ORGANIZER;CN="Runner's Club Bellinzona":MAILTO:rc.bellinzona@bluewin.ch
END:VEVENT
BEGIN:VEVENT
DTSTART;TZID=Europe/Zurich:20230523T080000
DTEND;TZID=Europe/Zurich:20230523T170000
DTSTAMP:20260420T101723
CREATED:20230409T163555Z
LAST-MODIFIED:20230409T163555Z
UID:11317-1684828800-1684861200@rcbellinzona.ch
SUMMARY:Allenamento regolare estivo
DESCRIPTION:
URL:https://rcbellinzona.ch/event/allenamento-regolare-estivo-7/
LOCATION:Stadio Comunale Bellinzona\, Viale Giuseppe Motta 1A\, Bellinzona\, Ticino\, 6500\, Svizzera
CATEGORIES:Allenamento
ORGANIZER;CN="Runner's Club Bellinzona":MAILTO:rc.bellinzona@bluewin.ch
END:VEVENT
BEGIN:VEVENT
DTSTART;TZID=Europe/Zurich:20230528T104500
DTEND;TZID=Europe/Zurich:20230528T140000
DTSTAMP:20260420T101723
CREATED:20230306T201108Z
LAST-MODIFIED:20230306T201108Z
UID:11245-1685270700-1685282400@rcbellinzona.ch
SUMMARY:Bellinzona Castles & Go
DESCRIPTION:corsa 11 km \nwalking 11 km
URL:https://rcbellinzona.ch/event/bellinzona-castles-go/
LOCATION:Castello Montebello\, Bellinzona\, 6500\, Svizzera
CATEGORIES:Corsa
ORGANIZER;CN="Associazione Castles & Go":MAILTO:castlesandgo@gmail.com
END:VEVENT
BEGIN:VEVENT
DTSTART;TZID=Europe/Zurich:20230530T182000
DTEND;TZID=Europe/Zurich:20230530T200000
DTSTAMP:20260420T101723
CREATED:20230409T163649Z
LAST-MODIFIED:20230409T164230Z
UID:11319-1685470800-1685476800@rcbellinzona.ch
SUMMARY:Allenamento regolare estivo
DESCRIPTION:Allenamento per tutti i podisti con esercizi vari: farlek\, ripetute\, mobilità ecc.\nResponsabile Sofia Scanziani\ncon l’aiuto di Dino\, Pilar e Rosalba.
URL:https://rcbellinzona.ch/event/allenamento-regolare-estivo-8/
LOCATION:Stadio Comunale Bellinzona\, Viale Giuseppe Motta 1A\, Bellinzona\, Ticino\, 6500\, Svizzera
CATEGORIES:Allenamento
ORGANIZER;CN="Runner's Club Bellinzona":MAILTO:rc.bellinzona@bluewin.ch
END:VEVENT
END:VCALENDAR