BEGIN:VCALENDAR
VERSION:2.0
PRODID:-//Runner&#039;s Club Bellinzona - ECPv6.15.15//NONSGML v1.0//EN
CALSCALE:GREGORIAN
METHOD:PUBLISH
X-ORIGINAL-URL:https://rcbellinzona.ch
X-WR-CALDESC:Eventi per Runner&#039;s Club Bellinzona
REFRESH-INTERVAL;VALUE=DURATION:PT1H
X-Robots-Tag:noindex
X-PUBLISHED-TTL:PT1H
BEGIN:VTIMEZONE
TZID:Europe/Zurich
BEGIN:DAYLIGHT
TZOFFSETFROM:+0100
TZOFFSETTO:+0200
TZNAME:CEST
DTSTART:20220327T010000
END:DAYLIGHT
BEGIN:STANDARD
TZOFFSETFROM:+0200
TZOFFSETTO:+0100
TZNAME:CET
DTSTART:20221030T010000
END:STANDARD
BEGIN:DAYLIGHT
TZOFFSETFROM:+0100
TZOFFSETTO:+0200
TZNAME:CEST
DTSTART:20230326T010000
END:DAYLIGHT
BEGIN:STANDARD
TZOFFSETFROM:+0200
TZOFFSETTO:+0100
TZNAME:CET
DTSTART:20231029T010000
END:STANDARD
BEGIN:DAYLIGHT
TZOFFSETFROM:+0100
TZOFFSETTO:+0200
TZNAME:CEST
DTSTART:20240331T010000
END:DAYLIGHT
BEGIN:STANDARD
TZOFFSETFROM:+0200
TZOFFSETTO:+0100
TZNAME:CET
DTSTART:20241027T010000
END:STANDARD
END:VTIMEZONE
BEGIN:VEVENT
DTSTART;TZID=Europe/Zurich:20230604T104500
DTEND;TZID=Europe/Zurich:20230604T140000
DTSTAMP:20260420T041506
CREATED:20230306T202108Z
LAST-MODIFIED:20230306T202234Z
UID:11251-1685875500-1685887200@rcbellinzona.ch
SUMMARY:Tamaro Trail - CTR
DESCRIPTION:corsa 7.6 km – 1150m dislivello \n+ walking \n 
URL:https://rcbellinzona.ch/event/tamaro-trail-ctr/
LOCATION:Alpe Foppa Monte Tamaro\, Rivera\, Svizzera
CATEGORIES:CTR = Coppa ASTi Trail,Trail
ORGANIZER;CN="Amiconi Consulting":MAILTO:info@amiconiconsulting.ch
END:VEVENT
BEGIN:VEVENT
DTSTART;TZID=Europe/Zurich:20230606T182000
DTEND;TZID=Europe/Zurich:20230606T200000
DTSTAMP:20260420T041506
CREATED:20230409T163736Z
LAST-MODIFIED:20230409T164205Z
UID:11321-1686075600-1686081600@rcbellinzona.ch
SUMMARY:Allenamento regolare estivo
DESCRIPTION:Allenamento per tutti i podisti con esercizi vari: farlek\, ripetute\, mobilità ecc.\nResponsabile Sofia Scanziani\ncon l’aiuto di Dino\, Pilar e Rosalba.
URL:https://rcbellinzona.ch/event/allenamento-regolare-estivo-9/
LOCATION:Stadio Comunale Bellinzona\, Viale Giuseppe Motta 1A\, Bellinzona\, Ticino\, 6500\, Svizzera
CATEGORIES:Allenamento
ORGANIZER;CN="Runner's Club Bellinzona":MAILTO:rc.bellinzona@bluewin.ch
END:VEVENT
BEGIN:VEVENT
DTSTART;VALUE=DATE:20230608
DTEND;VALUE=DATE:20230609
DTSTAMP:20260420T041506
CREATED:20230409T164936Z
LAST-MODIFIED:20230409T164936Z
UID:11337-1686182400-1686268799@rcbellinzona.ch
SUMMARY:Allenamento Mornera
DESCRIPTION:Monte Carasso – Mornera \nallenamento in compagnia \ncena al ristorante \nsegue programma
URL:https://rcbellinzona.ch/event/allenamento-mornera/
LOCATION:Mornera
CATEGORIES:Allenamento
ORGANIZER;CN="Runner's Club Bellinzona":MAILTO:rc.bellinzona@bluewin.ch
END:VEVENT
BEGIN:VEVENT
DTSTART;TZID=Europe/Zurich:20230611T100000
DTEND;TZID=Europe/Zurich:20230611T120000
DTSTAMP:20260420T041506
CREATED:20230306T202927Z
LAST-MODIFIED:20230306T202927Z
UID:11256-1686477600-1686484800@rcbellinzona.ch
SUMMARY:Orselina - Cimetta - CMSV
DESCRIPTION:8.7 km – 1110 m dislivello \n+ walking
URL:https://rcbellinzona.ch/event/orselina-cimetta-cmsv/
LOCATION:Cardada\, Orselina\, Svizzera
CATEGORIES:CMSV = Coppa ASTi Montagna Salita e Vertical,Corsa
ORGANIZER;CN="Societ%C3%A0 podistica Locarnese":MAILTO:info@splocarnese.ch
END:VEVENT
BEGIN:VEVENT
DTSTART;TZID=Europe/Zurich:20230613T080000
DTEND;TZID=Europe/Zurich:20230613T170000
DTSTAMP:20260420T041506
CREATED:20230409T163820Z
LAST-MODIFIED:20230409T164146Z
UID:11323-1686643200-1686675600@rcbellinzona.ch
SUMMARY:Allenamento regolare estivo
DESCRIPTION:Allenamento per tutti i podisti con esercizi vari: farlek\, ripetute\, mobilità ecc.\nResponsabile Sofia Scanziani\ncon l’aiuto di Dino\, Pilar e Rosalba.
URL:https://rcbellinzona.ch/event/allenamento-regolare-estivo-10/
LOCATION:Stadio Comunale Bellinzona\, Viale Giuseppe Motta 1A\, Bellinzona\, Ticino\, 6500\, Svizzera
CATEGORIES:Allenamento
ORGANIZER;CN="Runner's Club Bellinzona":MAILTO:rc.bellinzona@bluewin.ch
END:VEVENT
BEGIN:VEVENT
DTSTART;TZID=Europe/Zurich:20230617T170000
DTEND;TZID=Europe/Zurich:20230617T190000
DTSTAMP:20260420T041506
CREATED:20230306T203539Z
LAST-MODIFIED:20230306T203539Z
UID:11260-1687021200-1687028400@rcbellinzona.ch
SUMMARY:Corsa del Bigorio - CMSV
DESCRIPTION:3.3 km – 216 m dislivello
URL:https://rcbellinzona.ch/event/corsa-del-bigorio-cmsv/
LOCATION:Bigorio\, Tesserete\, Svizzera
CATEGORIES:CMSV = Coppa ASTi Montagna Salita e Vertical,Corsa
END:VEVENT
BEGIN:VEVENT
DTSTART;TZID=Europe/Zurich:20230620T182000
DTEND;TZID=Europe/Zurich:20230620T200000
DTSTAMP:20260420T041506
CREATED:20230409T163920Z
LAST-MODIFIED:20230409T164126Z
UID:11325-1687285200-1687291200@rcbellinzona.ch
SUMMARY:Allenamento regolare estivo
DESCRIPTION:Allenamento per tutti i podisti con esercizi vari: farlek\, ripetute\, mobilità ecc.\nResponsabile Sofia Scanziani\ncon l’aiuto di Dino\, Pilar e Rosalba.
URL:https://rcbellinzona.ch/event/allenamento-regolare-estivo-11/
LOCATION:Stadio Comunale Bellinzona\, Viale Giuseppe Motta 1A\, Bellinzona\, Ticino\, 6500\, Svizzera
CATEGORIES:Allenamento
ORGANIZER;CN="Runner's Club Bellinzona":MAILTO:rc.bellinzona@bluewin.ch
END:VEVENT
BEGIN:VEVENT
DTSTART;TZID=Europe/Zurich:20230625T093000
DTEND;TZID=Europe/Zurich:20230630T093000
DTSTAMP:20260420T041506
CREATED:20230228T205242Z
LAST-MODIFIED:20230228T205242Z
UID:11208-1687685400-1688117400@rcbellinzona.ch
SUMMARY:Giro podistico a tappe della Val di Fassa
DESCRIPTION:settimana nelle Dolomiti\, Val di Fassa \ndal 25 giugno al 30 giugno 2023 \n5 tappe
URL:https://rcbellinzona.ch/event/giro-podistico-a-tappe-della-val-di-fassa/
LOCATION:Val di Fassa\, Moena\, Italia
CATEGORIES:Corsa
END:VEVENT
END:VCALENDAR