BEGIN:VCALENDAR
VERSION:2.0
PRODID:-//Runner&#039;s Club Bellinzona - ECPv6.15.15//NONSGML v1.0//EN
CALSCALE:GREGORIAN
METHOD:PUBLISH
X-WR-CALNAME:Runner&#039;s Club Bellinzona
X-ORIGINAL-URL:https://rcbellinzona.ch
X-WR-CALDESC:Eventi per Runner&#039;s Club Bellinzona
REFRESH-INTERVAL;VALUE=DURATION:PT1H
X-Robots-Tag:noindex
X-PUBLISHED-TTL:PT1H
BEGIN:VTIMEZONE
TZID:Europe/Zurich
BEGIN:DAYLIGHT
TZOFFSETFROM:+0100
TZOFFSETTO:+0200
TZNAME:CEST
DTSTART:20220327T010000
END:DAYLIGHT
BEGIN:STANDARD
TZOFFSETFROM:+0200
TZOFFSETTO:+0100
TZNAME:CET
DTSTART:20221030T010000
END:STANDARD
BEGIN:DAYLIGHT
TZOFFSETFROM:+0100
TZOFFSETTO:+0200
TZNAME:CEST
DTSTART:20230326T010000
END:DAYLIGHT
BEGIN:STANDARD
TZOFFSETFROM:+0200
TZOFFSETTO:+0100
TZNAME:CET
DTSTART:20231029T010000
END:STANDARD
BEGIN:DAYLIGHT
TZOFFSETFROM:+0100
TZOFFSETTO:+0200
TZNAME:CEST
DTSTART:20240331T010000
END:DAYLIGHT
BEGIN:STANDARD
TZOFFSETFROM:+0200
TZOFFSETTO:+0100
TZNAME:CET
DTSTART:20241027T010000
END:STANDARD
END:VTIMEZONE
BEGIN:VEVENT
DTSTART;TZID=Europe/Zurich:20230701T083000
DTEND;TZID=Europe/Zurich:20230701T130000
DTSTAMP:20260419T201117
CREATED:20230608T112807Z
LAST-MODIFIED:20230608T112807Z
UID:11431-1688200200-1688216400@rcbellinzona.ch
SUMMARY:Morobbia Trail
DESCRIPTION:33 km 2500 D+ pt 8.35 \n14 km 1300 D+ pt 9.15 \nWalking km 6 400 D+ pt 9.30 \n 
URL:https://rcbellinzona.ch/event/morobbia-trail/
LOCATION:Pianezzo\, 6512 Giubiasco
CATEGORIES:CTR = Coppa ASTi Trail
ORGANIZER;CN="Associazione sportiva Baraonda":MAILTO:info@morobbia-trail.ch
END:VEVENT
BEGIN:VEVENT
DTSTART;TZID=Europe/Zurich:20230702T103000
DTEND;TZID=Europe/Zurich:20230702T120000
DTSTAMP:20260419T201117
CREATED:20230608T113335Z
LAST-MODIFIED:20230608T113335Z
UID:11435-1688293800-1688299200@rcbellinzona.ch
SUMMARY:Gran Premio Rossa
DESCRIPTION:10 km – 271 D+
URL:https://rcbellinzona.ch/event/gran-premio-rossa/
LOCATION:Rossa\, Rossa
CATEGORIES:CPOD = coppa Asti podismo
ORGANIZER;CN="Moesa Runners":MAILTO:info@visit-moesano.ch
END:VEVENT
BEGIN:VEVENT
DTSTART;TZID=Europe/Zurich:20230704T182000
DTEND;TZID=Europe/Zurich:20230704T200000
DTSTAMP:20260419T201117
CREATED:20230608T120117Z
LAST-MODIFIED:20230608T120215Z
UID:11449-1688494800-1688500800@rcbellinzona.ch
SUMMARY:Allenamento regolare estivo
DESCRIPTION:Allenamento per tutti i podisti con esercizi vari: farlek\, ripetute\, mobilità ecc.\nResponsabile Sofia Scanziani\ncon l’aiuto di Dino\, Pilar e Rosalba.
URL:https://rcbellinzona.ch/event/allenamento-regolare-estivo-12/
LOCATION:Stadio Comunale Bellinzona\, Viale Giuseppe Motta 1A\, Bellinzona\, Ticino\, 6500\, Svizzera
CATEGORIES:Allenamento
ORGANIZER;CN="Runner's Club Bellinzona":MAILTO:rc.bellinzona@bluewin.ch
END:VEVENT
BEGIN:VEVENT
DTSTART;TZID=Europe/Zurich:20230704T200000
DTEND;TZID=Europe/Zurich:20230704T220000
DTSTAMP:20260419T201117
CREATED:20230409T165249Z
LAST-MODIFIED:20230613T155705Z
UID:11340-1688500800-1688508000@rcbellinzona.ch
SUMMARY:PIC -NIC
DESCRIPTION:dopo il consueto allenamento del martedì \nPIC – NIC in compagnia (ognuno porta qualcosa da condividere con gli altri) \n 
URL:https://rcbellinzona.ch/event/pic-nic/
LOCATION:Bellinzona
ORGANIZER;CN="Runner's Club Bellinzona":MAILTO:rc.bellinzona@bluewin.ch
END:VEVENT
BEGIN:VEVENT
DTSTART;TZID=Europe/Zurich:20230709T103000
DTEND;TZID=Europe/Zurich:20230709T120000
DTSTAMP:20260419T201117
CREATED:20230608T113918Z
LAST-MODIFIED:20230608T113918Z
UID:11438-1688898600-1688904000@rcbellinzona.ch
SUMMARY:SanBeRun
DESCRIPTION:10 km +/-180m \nWalking 5 km
URL:https://rcbellinzona.ch/event/sanberun/
LOCATION:San Bernardino\, San Bernardino\, Svizzera
CATEGORIES:CPOD = coppa Asti podismo
ORGANIZER;CN="Moesa Runners":MAILTO:info@visit-moesano.ch
END:VEVENT
BEGIN:VEVENT
DTSTART;TZID=Europe/Zurich:20230711T182000
DTEND;TZID=Europe/Zurich:20230711T200000
DTSTAMP:20260419T201117
CREATED:20230608T120359Z
LAST-MODIFIED:20230608T120435Z
UID:11453-1689099600-1689105600@rcbellinzona.ch
SUMMARY:Allenamento regolare estivo
DESCRIPTION:Allenamento per tutti i podisti con esercizi vari: farlek\, ripetute\, mobilità ecc.\nResponsabile Sofia Scanziani\ncon l’aiuto di Dino\, Pilar e Rosalba.
URL:https://rcbellinzona.ch/event/11453/
LOCATION:Stadio Comunale Bellinzona\, Viale Giuseppe Motta 1A\, Bellinzona\, Ticino\, 6500\, Svizzera
CATEGORIES:Allenamento
ORGANIZER;CN="Runner's Club Bellinzona":MAILTO:rc.bellinzona@bluewin.ch
END:VEVENT
BEGIN:VEVENT
DTSTART;TZID=Europe/Zurich:20230716T093000
DTEND;TZID=Europe/Zurich:20230716T120000
DTSTAMP:20260419T201117
CREATED:20230608T114713Z
LAST-MODIFIED:20230608T114713Z
UID:11440-1689499800-1689508800@rcbellinzona.ch
SUMMARY:Rodi - Tremorgio
DESCRIPTION:5.5 km – 910D+ – pt 10.00 \nWalking 5.5 – 910D+ – pt 9.30
URL:https://rcbellinzona.ch/event/rodi-tremorgio/
LOCATION:Tremorgio\, Rodi
CATEGORIES:CMSV = Coppa ASTi Montagna Salita e Vertical
ORGANIZER;CN="GORT":MAILTO:dbalmelli@gmail.com
END:VEVENT
BEGIN:VEVENT
DTSTART;TZID=Europe/Zurich:20230718T182000
DTEND;TZID=Europe/Zurich:20230718T200000
DTSTAMP:20260419T201117
CREATED:20230608T120552Z
LAST-MODIFIED:20230608T120658Z
UID:11456-1689704400-1689710400@rcbellinzona.ch
SUMMARY:Allenamento regolare estivo
DESCRIPTION:Allenamento per tutti i podisti con esercizi vari: farlek\, ripetute\, mobilità ecc.\nResponsabile Sofia Scanziani\ncon l’aiuto di Dino\, Pilar e Rosalba.
URL:https://rcbellinzona.ch/event/allenamento-regolare-estivo-13/
LOCATION:Stadio Comunale Bellinzona\, Viale Giuseppe Motta 1A\, Bellinzona\, Ticino\, 6500\, Svizzera
CATEGORIES:Allenamento
ORGANIZER;CN="Runner's Club Bellinzona":MAILTO:rc.bellinzona@bluewin.ch
END:VEVENT
BEGIN:VEVENT
DTSTART;TZID=Europe/Zurich:20230720T190000
DTEND;TZID=Europe/Zurich:20230720T200000
DTSTAMP:20260419T201117
CREATED:20230710T181626Z
LAST-MODIFIED:20230710T181626Z
UID:11526-1689879600-1689883200@rcbellinzona.ch
SUMMARY:Allenamento in piscina per runners
DESCRIPTION:Cari soci\, visto l’innalzarsi delle temperature\, vi vogliamo proporre un allenamento alternativo per mantenere la condizione in modo efficace e allo stesso tempo fresco ❄️\nGiovedì 20 luglio ALLENAMENTO IN PISCINA PER RUNNERS.\nAlla piscina del camping di Gudo\, Kordula ci insegnerà degli esercizi molto utili per tenerci in forma\, sfruttando la resistenza dell’acqua.\nA seguire cena nel ristorante pizzeria del camping.\nNel volantino allegato tutti i particolari.\nVi aspettiamo numerosi!
URL:https://rcbellinzona.ch/event/allenamento-in-piscina-per-runners/
LOCATION:Camping Gudo\, Via al Gaggiolo\, Gudo\, 6515\, Svizzera
CATEGORIES:Allenamento
ORGANIZER;CN="Runner's Club Bellinzona":MAILTO:rc.bellinzona@bluewin.ch
END:VEVENT
BEGIN:VEVENT
DTSTART;VALUE=DATE:20230723
DTEND;VALUE=DATE:20230724
DTSTAMP:20260419T201117
CREATED:20230409T165446Z
LAST-MODIFIED:20230715T193556Z
UID:11343-1690070400-1690156799@rcbellinzona.ch
SUMMARY:Pian San Giacomo - San Bernardino
DESCRIPTION:allenamento in altura \nPIC – NIC in compagnia a San Bernardino \nORE 9.15 RITROVO E CONSEGNA SACCHE\nAL PONTE ROMANO DI PIAN SAN GIACOMO\nORE 9.30 RISCALDAMENTO E A SEGUIRE\nPARTENZA ALLENAMENTO\nORE 12.00 PRANZO AL SACCO NEL PRATO\nVICINO AL FIUME (VICINO AL\nCAPANNONE DELLE FESTE – PARTENZA\nSANBE RUN) \nRITORNO CON AUTOPOSTALE (PORTARE\nABBONAMENTO METÀ PREZZO E ALTRE\nEVENTUALI RIDUZIONI)
URL:https://rcbellinzona.ch/event/pian-san-giacomo-san-bernardino/
LOCATION:San Bernardino\, San Bernardino\, Svizzera
ORGANIZER;CN="Runner's Club Bellinzona":MAILTO:rc.bellinzona@bluewin.ch
END:VEVENT
BEGIN:VEVENT
DTSTART;TZID=Europe/Zurich:20230725T182000
DTEND;TZID=Europe/Zurich:20230725T200000
DTSTAMP:20260419T201117
CREATED:20230608T120823Z
LAST-MODIFIED:20230608T120823Z
UID:11461-1690309200-1690315200@rcbellinzona.ch
SUMMARY:Allenamento regolare estivo
DESCRIPTION:
URL:https://rcbellinzona.ch/event/allenamento-regolare-estivo-14/
LOCATION:Stadio Comunale Bellinzona\, Viale Giuseppe Motta 1A\, Bellinzona\, Ticino\, 6500\, Svizzera
CATEGORIES:Allenamento
ORGANIZER;CN="Runner's Club Bellinzona":MAILTO:rc.bellinzona@bluewin.ch
END:VEVENT
BEGIN:VEVENT
DTSTART;TZID=Europe/Zurich:20230730T090000
DTEND;TZID=Europe/Zurich:20230730T140000
DTSTAMP:20260419T201117
CREATED:20230608T115548Z
LAST-MODIFIED:20230608T115548Z
UID:11444-1690707600-1690725600@rcbellinzona.ch
SUMMARY:Cronometro del Nara
DESCRIPTION:8.75 km – 916D+ – pt 9.30 \nWalking 8.75 – 916D+ – pt 9.00
URL:https://rcbellinzona.ch/event/cronometro-del-nara/
LOCATION:Nara
CATEGORIES:CMSV = Coppa ASTi Montagna Salita e Vertical
ORGANIZER;CN="Sci Club Negrentino":MAILTO:info@sciclubnegrentino.ch
END:VEVENT
END:VCALENDAR