BEGIN:VCALENDAR
VERSION:2.0
PRODID:-//Runner&#039;s Club Bellinzona - ECPv6.15.15//NONSGML v1.0//EN
CALSCALE:GREGORIAN
METHOD:PUBLISH
X-WR-CALNAME:Runner&#039;s Club Bellinzona
X-ORIGINAL-URL:https://rcbellinzona.ch
X-WR-CALDESC:Eventi per Runner&#039;s Club Bellinzona
REFRESH-INTERVAL;VALUE=DURATION:PT1H
X-Robots-Tag:noindex
X-PUBLISHED-TTL:PT1H
BEGIN:VTIMEZONE
TZID:Europe/Zurich
BEGIN:DAYLIGHT
TZOFFSETFROM:+0100
TZOFFSETTO:+0200
TZNAME:CEST
DTSTART:20230326T010000
END:DAYLIGHT
BEGIN:STANDARD
TZOFFSETFROM:+0200
TZOFFSETTO:+0100
TZNAME:CET
DTSTART:20231029T010000
END:STANDARD
BEGIN:DAYLIGHT
TZOFFSETFROM:+0100
TZOFFSETTO:+0200
TZNAME:CEST
DTSTART:20240331T010000
END:DAYLIGHT
BEGIN:STANDARD
TZOFFSETFROM:+0200
TZOFFSETTO:+0100
TZNAME:CET
DTSTART:20241027T010000
END:STANDARD
BEGIN:DAYLIGHT
TZOFFSETFROM:+0100
TZOFFSETTO:+0200
TZNAME:CEST
DTSTART:20250330T010000
END:DAYLIGHT
BEGIN:STANDARD
TZOFFSETFROM:+0200
TZOFFSETTO:+0100
TZNAME:CET
DTSTART:20251026T010000
END:STANDARD
END:VTIMEZONE
BEGIN:VEVENT
DTSTART;TZID=Europe/Zurich:20241012T080000
DTEND;TZID=Europe/Zurich:20241013T170000
DTSTAMP:20260420T081321
CREATED:20240225T103205Z
LAST-MODIFIED:20240225T103205Z
UID:11914-1728720000-1728838800@rcbellinzona.ch
SUMMARY:Ascona Locarno Run
DESCRIPTION:segue programa
URL:https://rcbellinzona.ch/event/ascona-locarno-run-2/
LOCATION:Piazza Grande Locarno\, Locarno\, 6600
CATEGORIES:Corsa
ORGANIZER;CN="Associazione Locarno Ascona Run":MAILTO:info@ascona-locarno-run.ch
END:VEVENT
BEGIN:VEVENT
DTSTART;TZID=Europe/Zurich:20241012T111500
DTEND;TZID=Europe/Zurich:20241012T130000
DTSTAMP:20260420T081321
CREATED:20240225T104020Z
LAST-MODIFIED:20240225T104107Z
UID:11918-1728731700-1728738000@rcbellinzona.ch
SUMMARY:Corsa delle 7 chiese - Giornico
DESCRIPTION:segue programma
URL:https://rcbellinzona.ch/event/corsa-delle-7-chiese-giornico-2/
LOCATION:Giornico\, Giornico
CATEGORIES:CPOD = coppa Asti podismo
ORGANIZER;CN="Corsa 7 Chiese Giornico":MAILTO:corsa7chiesegiornico@gmail.com
END:VEVENT
BEGIN:VEVENT
DTSTART;VALUE=DATE:20241027
DTEND;VALUE=DATE:20241028
DTSTAMP:20260420T081321
CREATED:20240201T101228Z
LAST-MODIFIED:20241006T190118Z
UID:11893-1729987200-1730073599@rcbellinzona.ch
SUMMARY:Swiss City Marathon - Lucerna
DESCRIPTION:
URL:https://rcbellinzona.ch/event/swiss-city-marathon-lucerna/
LOCATION:Lucerna\, Lucerna
CATEGORIES:Corsa
END:VEVENT
END:VCALENDAR